BEGIN:VCALENDAR
VERSION:2.0
PRODID:-//Williamson Museum - ECPv6.15.20//NONSGML v1.0//EN
CALSCALE:GREGORIAN
METHOD:PUBLISH
X-ORIGINAL-URL:https://williamsonmuseum.org
X-WR-CALDESC:Events for Williamson Museum
REFRESH-INTERVAL;VALUE=DURATION:PT1H
X-Robots-Tag:noindex
X-PUBLISHED-TTL:PT1H
BEGIN:VTIMEZONE
TZID:America/Chicago
BEGIN:DAYLIGHT
TZOFFSETFROM:-0600
TZOFFSETTO:-0500
TZNAME:CDT
DTSTART:20220313T080000
END:DAYLIGHT
BEGIN:STANDARD
TZOFFSETFROM:-0500
TZOFFSETTO:-0600
TZNAME:CST
DTSTART:20221106T070000
END:STANDARD
BEGIN:DAYLIGHT
TZOFFSETFROM:-0600
TZOFFSETTO:-0500
TZNAME:CDT
DTSTART:20230312T080000
END:DAYLIGHT
BEGIN:STANDARD
TZOFFSETFROM:-0500
TZOFFSETTO:-0600
TZNAME:CST
DTSTART:20231105T070000
END:STANDARD
BEGIN:DAYLIGHT
TZOFFSETFROM:-0600
TZOFFSETTO:-0500
TZNAME:CDT
DTSTART:20240310T080000
END:DAYLIGHT
BEGIN:STANDARD
TZOFFSETFROM:-0500
TZOFFSETTO:-0600
TZNAME:CST
DTSTART:20241103T070000
END:STANDARD
END:VTIMEZONE
BEGIN:VEVENT
DTSTART;TZID=America/Chicago:20230901T130000
DTEND;TZID=America/Chicago:20230929T163000
DTSTAMP:20260423T235247
CREATED:20230829T180020Z
LAST-MODIFIED:20230829T180020Z
UID:2157-1693573200-1696005000@williamsonmuseum.org
SUMMARY:Film Fridays in September: Documentary Screening & Historic Courthouse Tours
DESCRIPTION:
URL:https://williamsonmuseum.org/event/film-fridays-in-september-documentary-screening-historic-courthouse-tours/
LOCATION:The Williamson Museum\, 716 S. Austin Avenue\, Georgetown\, TX\, 78626\, United States
CATEGORIES:Events
ATTACH;FMTTYPE=image/png:https://williamsonmuseum.org/wp-content/uploads/2023/08/100-Anni-Facebook-Cover.png
END:VEVENT
END:VCALENDAR